BEGIN:VCALENDAR
VERSION:2.0
PRODID:-//https://sorrento.discovercampania.com///NONSGML kigkonsult.se iCalcreator 2.10.15//
METHOD:PUBLISH
BEGIN:VEVENT
UID:20260421T191756CEST-1730eoelID@https://sorrento.discovercampania.com/
DTSTAMP:20260421T171756Z
DESCRIPTION: https://sorrento.discovercampania.com/component/rseventspro/Ev
 ento/1565-a-misciano-di-montoro-la-passione-di-cristo?Itemid=231
DTSTART:20250413T160000Z
DTEND:20250413T170000Z
LOCATION:Misciano di Montoro  Avellino ()
SUMMARY:A Misciano di Montoro 'La Passione di Cristo'
URL:https://sorrento.discovercampania.com/component/rseventspro/Evento/1565
 -a-misciano-di-montoro-la-passione-di-cristo?Itemid=231
END:VEVENT
END:VCALENDAR
