BEGIN:VCALENDAR
VERSION:2.0
PRODID:-//https://sorrento.discovercampania.com///NONSGML kigkonsult.se iCalcreator 2.10.15//
METHOD:PUBLISH
BEGIN:VEVENT
UID:20260421T210133CEST-46870j7jtB@https://sorrento.discovercampania.com/
DTSTAMP:20260421T190133Z
DESCRIPTION:Sabato 7 e domenica 8 giugno\, per gli Appuntamenti musicali di
  Primavera ai Giardini La Mortella di Forio sull'isola d'Ischia\, concerto
  del Trio Avel\, con Piero Cinosi al pianoforte\, Alban Lukaj al violino e
  Raffaella Cardaropoli al violoncellom che eseguiranno brani di Haydn\, De
 bussy e Brahms.&nbsp\;\nAppuntamento alle ora 17.00 nella Recital Hall.&nb
 sp\;\nPer info e prenotazioni www.info@lamortella.org\n&nbsp\; https://sor
 rento.discovercampania.com/component/rseventspro/Evento/1601-incontri-musi
 cali-di-primavera-ai-giardini-la-mortella-di-ischia?Itemid=231
DTSTART:20250607T150000Z
DTEND:20250608T150000Z
LOCATION:Isola di Ischia (PW82+M2 Serrara Fontana NA\, Italia)
SUMMARY:Incontri Musicali di Primavera ai Giardini La Mortella di Ischia
URL:https://sorrento.discovercampania.com/component/rseventspro/Evento/1601
 -incontri-musicali-di-primavera-ai-giardini-la-mortella-di-ischia?Itemid=2
 31
END:VEVENT
END:VCALENDAR
