BEGIN:VCALENDAR
VERSION:2.0
PRODID:-//https://sorrento.discovercampania.com///NONSGML kigkonsult.se iCalcreator 2.10.15//
METHOD:PUBLISH
BEGIN:VEVENT
UID:20260421T210140CEST-6196Onua64@https://sorrento.discovercampania.com/
DTSTAMP:20260421T190140Z
DESCRIPTION: https://sorrento.discovercampania.com/component/rseventspro/Ev
 ento/1608-festa-della-musica-2025-nei-siti-della-grande-pompei?Itemid=231
DTSTART:20250620T083000Z
DTEND:20250621T170000Z
LOCATION:Parco Archeologico di Pompei – via Plinio (Via Plinio\, 26\, 80045
  Pompei NA\, Italia)
SUMMARY:Festa della Musica 2025 nei siti della Grande Pompei
URL:https://sorrento.discovercampania.com/component/rseventspro/Evento/1608
 -festa-della-musica-2025-nei-siti-della-grande-pompei?Itemid=231
END:VEVENT
END:VCALENDAR
