BEGIN:VCALENDAR
VERSION:2.0
PRODID:-//https://sorrento.discovercampania.com///NONSGML kigkonsult.se iCalcreator 2.10.15//
METHOD:PUBLISH
BEGIN:VEVENT
UID:20260421T210143CEST-4064Ev9VCU@https://sorrento.discovercampania.com/
DTSTAMP:20260421T190143Z
DESCRIPTION:Nel week end\, nuovo appuntamento con i Concerti musicali d'Aut
 unno ai Giardini La Mortella di Forio\, sull'isola d'Ischia\, con il giova
 ne e già affermato pianista Pedro Lopez Salas\, che parteciperà presto al 
 prestigioso Festival di Chopin a Varsavia. E l'esibizione isolana sarà int
 eramente dedicata alle composizioni di Frederik Chopin.&nbsp\;\nIl concert
 o si terrà nella Recital Hall alle ore 17.00.\nInfo e prenotazioni www.lam
 ortella.org\n&nbsp\; https://sorrento.discovercampania.com/component/rseve
 ntspro/Evento/1632-incontri-musicali-autunnali-ai-giardini-la-mortella-di-
 ischia?Itemid=231
DTSTART:20250913T150000Z
DTEND:20250914T170000Z
LOCATION:Giardini la Mortella\, Ischia (Giardini La Mortella\, Via Francesc
 o Calise Operaio Foriano\, 45\, 80075 Forio NA\, Italia)
SUMMARY:Incontri Musicali autunnali ai Giardini La Mortella di Ischia
URL:https://sorrento.discovercampania.com/component/rseventspro/Evento/1632
 -incontri-musicali-autunnali-ai-giardini-la-mortella-di-ischia?Itemid=231
END:VEVENT
END:VCALENDAR
