BEGIN:VCALENDAR
VERSION:2.0
PRODID:-//https://sorrento.discovercampania.com///NONSGML kigkonsult.se iCalcreator 2.10.15//
METHOD:PUBLISH
BEGIN:VEVENT
UID:20260419T223400CEST-563507EJRF@https://sorrento.discovercampania.com/
DTSTAMP:20260419T203400Z
DESCRIPTION:'La Reggia liberata. L'occupazione militare alleate\, la resa t
 edesca\, la restituzione all'Italia (1943/47' è la grande mostra documenta
 ria organizzata all'interno del complesso vanvitelliano dall'Archivio di S
 tato di Caserta che\, per la prima volta\, in collaborazione con gli Archi
 vi storici statunitensi\, espone immagini e documenti inediti realtivi al 
 periodo in cui la Reggia fu Quartier generale delle truppe alleate in Ital
 ia e cornice della storica resa dell'esercito tedesco occupante. \nPuò ess
 ere visitata nei giorni e negli orari di apertura della Reggia  https://so
 rrento.discovercampania.com/en/component/rseventspro/event/1587-la-reggia-
 liberata-1943-1947?Itemid=231
DTSTART:20250529T063000Z
DTEND:20251002T170000Z
LOCATION:Reggia di Caserta\, Piazza Carlo di Borbone\, 81100 Caserta CE\, I
 talia (Reggia di Caserta\, Piazza Carlo di Borbone\, 81100 Caserta CE\, It
 alia)
SUMMARY:La Reggia liberata (1943/1947)
URL:https://sorrento.discovercampania.com/en/component/rseventspro/event/15
 87-la-reggia-liberata-1943-1947?Itemid=231
END:VEVENT
END:VCALENDAR
