BEGIN:VCALENDAR
VERSION:2.0
PRODID:-//https://sorrento.discovercampania.com///NONSGML kigkonsult.se iCalcreator 2.10.15//
METHOD:PUBLISH
BEGIN:VEVENT
UID:20260419T223721CEST-2929vou6uv@https://sorrento.discovercampania.com/
DTSTAMP:20260419T203721Z
DESCRIPTION:Sabato 10 e domenica 11 maggio agli Incontri Musicali di Primav
 era ai Giardini La Mortella di Forio sull'isola d'Ischia concerto del duo 
 Dallagnese\, con le due virtuose sorelle venete Eleonora e Beatrice al pia
 no\, per eseguire un programma con i Valzer op. 39 di Brahms e le composiz
 ioni di autori francesi del '900 come Poulenc\, Tailleferre\; Milhaud.\nAp
 puntamento alle 17.00 nella Recital Hall.&nbsp\;\nPer info e prenotazioni:
  lamortella.org https://sorrento.discovercampania.com/en/component/rsevent
 spro/event/1591-incontri-musicali-di-primavera-ai-giardini-la-mortella-di-
 ischia?Itemid=231
DTSTART:20250510T150000Z
DTEND:20250511T150000Z
LOCATION:Giardini la Mortella di Ischia (Giardini La Mortella\, Via Frances
 co Calise Operaio Foriano\, 45\, 80075 Forio NA\, Italia)
SUMMARY:Incontri Musicali di Primavera ai Giardini La Mortella di Ischia
URL:https://sorrento.discovercampania.com/en/component/rseventspro/event/15
 91-incontri-musicali-di-primavera-ai-giardini-la-mortella-di-ischia?Itemid
 =231
END:VEVENT
END:VCALENDAR
