BEGIN:VCALENDAR
VERSION:2.0
PRODID:-//https://sorrento.discovercampania.com///NONSGML kigkonsult.se iCalcreator 2.10.15//
METHOD:PUBLISH
BEGIN:VEVENT
UID:20260419T203018CEST-4164uVg1Tf@https://sorrento.discovercampania.com/
DTSTAMP:20260419T183018Z
DESCRIPTION:Sabato 29 marzo apre eccezionalmente al pubblico 'Allifae roman
 a'\, la città della provincia di Caserta che può vantare importanti vestig
 ia di epoca romana\, a cominciare dalle mura. Per l'occasione\, durante la
  mattinata saranno aperti eccezionalmente al pubblico il criptoportico\, l
 'anfiteatro e il mausoleo romani. https://sorrento.discovercampania.com/en
 /component/rseventspro/event/1653-allifae-romana-apertura-straordinaria-si
 ti-archeologici-di-alife?Itemid=231
DTSTART:20260328T230900Z
DTEND:20260328T231300Z
LOCATION:Alife (piazza della Liberazione\, 81011)
SUMMARY:Allifae romana-apertura straordinaria siti archeologici di Alife
URL:https://sorrento.discovercampania.com/en/component/rseventspro/event/16
 53-allifae-romana-apertura-straordinaria-siti-archeologici-di-alife?Itemid
 =231
END:VEVENT
END:VCALENDAR
