BEGIN:VCALENDAR
VERSION:2.0
PRODID:-//https://sorrento.discovercampania.com///NONSGML kigkonsult.se iCalcreator 2.10.15//
METHOD:PUBLISH
BEGIN:VEVENT
UID:20260419T172241CEST-7922Ds5uuv@https://sorrento.discovercampania.com/
DTSTAMP:20260419T152241Z
DESCRIPTION:Al Museo Nazionale Ferroviario di Pietrarsa la straordinaria co
 llezione di carrozze e locomotive ferroviarie storiche fa da speciale scen
 ografia alla mostra di prestigiose automobili d'epoca\, con modelli che ha
 nno fatto la storia dell'auto italiana nel Novecento e automobili legate a
  personalità e vicende di particolare rilievo e interesse. Numerose automo
 bili appartengono all'importante Collezione Lopresto https://sorrento.disc
 overcampania.com/en/component/rseventspro/event/1655-vintage-vibes-passion
 i-su-ruote?Itemid=231
DTSTART:20260402T140000Z
DTEND:20260517T173000Z
LOCATION:Museo Ferroviario di Pietrarsa - Traversa Pietrarsa (Via Pietrarsa
 \, 16\, 80146 Napoli NA\, Italia)
SUMMARY:Vintage vibes: Passioni su Ruote
URL:https://sorrento.discovercampania.com/en/component/rseventspro/event/16
 55-vintage-vibes-passioni-su-ruote?Itemid=231
END:VEVENT
END:VCALENDAR
