BEGIN:VCALENDAR
VERSION:2.0
PRODID:-//https://sorrento.discovercampania.com///NONSGML kigkonsult.se iCalcreator 2.10.15//
METHOD:PUBLISH
BEGIN:VEVENT
UID:20260419T190815CEST-1963UVaoFU@https://sorrento.discovercampania.com/
DTSTAMP:20260419T170815Z
DESCRIPTION: https://sorrento.discovercampania.com/en/eventi/event/1568-a-n
 apoli-miserere
DTSTART:20250413T170000Z
DTEND:20250413T190000Z
LOCATION:Via Santa Chiara\, 10\, 80134 Napoli NA\, Italia (Via Santa Chiara
 \, 10\, 80134 Napoli NA\, Italia)
SUMMARY:A Napoli 'Miserere'
URL:https://sorrento.discovercampania.com/en/eventi/event/1568-a-napoli-mis
 erere
END:VEVENT
END:VCALENDAR
