BEGIN:VCALENDAR
VERSION:2.0
PRODID:-//https://sorrento.discovercampania.com///NONSGML kigkonsult.se iCalcreator 2.10.15//
METHOD:PUBLISH
BEGIN:VEVENT
UID:20260419T223303CEST-3961L4XI89@https://sorrento.discovercampania.com/
DTSTAMP:20260419T203303Z
DESCRIPTION: https://sorrento.discovercampania.com/eventi/Evento/1566-a-sal
 erno-la-mostra-della-minerva
DTSTART:20250411T130000Z
DTEND:20250413T070000Z
LOCATION:Salerno (Villa Comunale\, via Roma)
SUMMARY:A Salerno La Mostra della Minerva
URL:https://sorrento.discovercampania.com/eventi/Evento/1566-a-salerno-la-m
 ostra-della-minerva
END:VEVENT
END:VCALENDAR
